BEGIN:VCALENDAR
VERSION:2.0
PRODID:-//Red Note  - ECPv6.15.18//NONSGML v1.0//EN
CALSCALE:GREGORIAN
METHOD:PUBLISH
X-ORIGINAL-URL:https://www.rednoteensemble.com
X-WR-CALDESC:Events for Red Note 
REFRESH-INTERVAL;VALUE=DURATION:PT1H
X-Robots-Tag:noindex
X-PUBLISHED-TTL:PT1H
BEGIN:VTIMEZONE
TZID:Europe/London
BEGIN:DAYLIGHT
TZOFFSETFROM:+0000
TZOFFSETTO:+0100
TZNAME:BST
DTSTART:20190331T010000
END:DAYLIGHT
BEGIN:STANDARD
TZOFFSETFROM:+0100
TZOFFSETTO:+0000
TZNAME:GMT
DTSTART:20191027T010000
END:STANDARD
BEGIN:DAYLIGHT
TZOFFSETFROM:+0000
TZOFFSETTO:+0100
TZNAME:BST
DTSTART:20200329T010000
END:DAYLIGHT
BEGIN:STANDARD
TZOFFSETFROM:+0100
TZOFFSETTO:+0000
TZNAME:GMT
DTSTART:20201025T010000
END:STANDARD
BEGIN:DAYLIGHT
TZOFFSETFROM:+0000
TZOFFSETTO:+0100
TZNAME:BST
DTSTART:20210328T010000
END:DAYLIGHT
BEGIN:STANDARD
TZOFFSETFROM:+0100
TZOFFSETTO:+0000
TZNAME:GMT
DTSTART:20211031T010000
END:STANDARD
END:VTIMEZONE
BEGIN:VEVENT
DTSTART;TZID=Europe/London:20200612T150000
DTEND;TZID=Europe/London:20200612T160000
DTSTAMP:20260424T030150
CREATED:20200528T113410Z
LAST-MODIFIED:20210315T171148Z
UID:3170-1591974000-1591977600@www.rednoteensemble.com
SUMMARY:Digital Noisy Nights - 6
DESCRIPTION:Digital Noisy Nights provide an outlet to hear emerging new musical ideas and voices in our new social distanced reality. Every Friday at 3PM for the month of June\, these five outstanding Red Note musicians will bring you the best examples of brand new music played from scratch from their homes to yours: \n• Ruth Morley – Flute\,\n• Jo Nicholson – Bass Clarinet\,\n• Tom Hunter – Percussion\,\n• Jackie Shave – Violin\,\n• and Duncan Strachan – Cello.\n \nDigital Noisy Nights – 12 June\, 3PM (UK time)*\nJack Brooks Interlocutor Transposed\nSusie Winkworth Lost Marbles\nChris Tilley Rituals\nHugh Morris Etude for Cello\nStuart Mitchell Lining Out\n \n*click on the link or on BUY TICKETS and you will redirected to YouTube\nShare and engage on Facebook\, Twitter and Instagram using #NoisyNights\n \nIf you enjoyed this and are in a position to do so\, we hope you will consider making a donation to Help Musicians’ Coronavirus Financial Hardship Fund: www.helpmusicians.org.uk/support-our-work/make-a-donation  Thank you!\n\nRed Note is a PRS Foundation Talent Development Partner.
URL:https://www.rednoteensemble.com/event/digital-noisy-nights-6/
CATEGORIES:Concerts
ATTACH;FMTTYPE=image/png:https://www.rednoteensemble.com/wp-content/uploads/2020/05/Digital-Noisy-Nights-2-Square-format-2.png
END:VEVENT
END:VCALENDAR