BEGIN:VCALENDAR
VERSION:2.0
PRODID:-//Red Note  - ECPv6.15.18//NONSGML v1.0//EN
CALSCALE:GREGORIAN
METHOD:PUBLISH
X-WR-CALNAME:Red Note 
X-ORIGINAL-URL:https://www.rednoteensemble.com
X-WR-CALDESC:Events for Red Note 
REFRESH-INTERVAL;VALUE=DURATION:PT1H
X-Robots-Tag:noindex
X-PUBLISHED-TTL:PT1H
BEGIN:VTIMEZONE
TZID:Europe/London
BEGIN:DAYLIGHT
TZOFFSETFROM:+0000
TZOFFSETTO:+0100
TZNAME:BST
DTSTART:20190331T010000
END:DAYLIGHT
BEGIN:STANDARD
TZOFFSETFROM:+0100
TZOFFSETTO:+0000
TZNAME:GMT
DTSTART:20191027T010000
END:STANDARD
BEGIN:DAYLIGHT
TZOFFSETFROM:+0000
TZOFFSETTO:+0100
TZNAME:BST
DTSTART:20200329T010000
END:DAYLIGHT
BEGIN:STANDARD
TZOFFSETFROM:+0100
TZOFFSETTO:+0000
TZNAME:GMT
DTSTART:20201025T010000
END:STANDARD
BEGIN:DAYLIGHT
TZOFFSETFROM:+0000
TZOFFSETTO:+0100
TZNAME:BST
DTSTART:20210328T010000
END:DAYLIGHT
BEGIN:STANDARD
TZOFFSETFROM:+0100
TZOFFSETTO:+0000
TZNAME:GMT
DTSTART:20211031T010000
END:STANDARD
END:VTIMEZONE
BEGIN:VEVENT
DTSTART;VALUE=DATE:20200531
DTEND;VALUE=DATE:20200601
DTSTAMP:20260424T042111
CREATED:20200504T104757Z
LAST-MODIFIED:20200511T094009Z
UID:3119-1590883200-1590969599@www.rednoteensemble.com
SUMMARY:Revisit Digital Noisy Nights on YouTube
DESCRIPTION:During these social distancing times\, Noisy Nights adapted and went digital\, providing an outlet to hear emerging new musical ideas and voices together every Friday at 3PM for one month. After opening a challenge to composers by randomly assigning them an instrument to write a solo piece\, Red Note musicians selected 20 compositions to perform online that you can enjoy from your own home. You can now revisit Digital Noisy Nights on our YouTube channel. \n\nRuth Morley – Flute\,\nSasha Savaloni – Classical guitar\,\nTom Hunter – Percussion\,\nJackie Shave – Violin\,\nand Robert Irvine Cello.\n\nNoisy Nights – 10 April\nRobin Haigh Nasubi\nCharles Gaskell The Moon Reaching Down to Touch The Reflection\nAnna Claydon  Manichean\nPàdruig Morrison  Fragile Distance\nRonnie MacNiven Sentinel \nNoisy Nights – 17 April\nMichael Burslem Cello Idea\nDorian Kelly Way Home\nRylan Gleave  Unpitched Skin\nGeorgina MacDonell Finlayson  This is the River\nJoshua Brown Capriccio Ricercare \nNoisy Nights – 24 April\nCarol J Jones Selkie\nFlorence Anna Maunders Black Ants/Red Ants\nStefano Paparozzi  A Chord Chart\nMauricio Cristales Armas Longing for Hope\nColin Johnson Grimpen Mire \nNoisy Nights – 1 May (Special Young Composers)\nEliza Sinclair Kidd\, To a Mouse\nFergus Butt\, The Goldfish Are Relentless\nNeo Korths\, In The Shade Of Tangier\nIsak Persson\, Kvadratiska Vattenvågor \nLouis Opit\, Predatory Prelude \nIf you enjoyed this and are in a position to do so\, we hope you will consider making a donation to Help Musicians’ Coronavirus Financial Hardship Fund: https://www.helpmusicians.org.uk/support-our-work/make-a-donation Thank you! \nStay tuned for further announcements about our weekly date Fridays at 3PM ! \nRed Note is a PRS Foundation Talent Development Partner.
URL:https://www.rednoteensemble.com/event/revisit-digital-noisynights/
CATEGORIES:Concerts
ATTACH;FMTTYPE=image/png:https://www.rednoteensemble.com/wp-content/uploads/2020/03/RN-EnsemblePic-Landscape-PRSFtdplogo-1.png
END:VEVENT
END:VCALENDAR