BEGIN:VCALENDAR
VERSION:2.0
PRODID:-//Red Note  - ECPv6.15.18//NONSGML v1.0//EN
CALSCALE:GREGORIAN
METHOD:PUBLISH
X-ORIGINAL-URL:https://www.rednoteensemble.com
X-WR-CALDESC:Events for Red Note 
REFRESH-INTERVAL;VALUE=DURATION:PT1H
X-Robots-Tag:noindex
X-PUBLISHED-TTL:PT1H
BEGIN:VTIMEZONE
TZID:Europe/London
BEGIN:DAYLIGHT
TZOFFSETFROM:+0000
TZOFFSETTO:+0100
TZNAME:BST
DTSTART:20190331T010000
END:DAYLIGHT
BEGIN:STANDARD
TZOFFSETFROM:+0100
TZOFFSETTO:+0000
TZNAME:GMT
DTSTART:20191027T010000
END:STANDARD
BEGIN:DAYLIGHT
TZOFFSETFROM:+0000
TZOFFSETTO:+0100
TZNAME:BST
DTSTART:20200329T010000
END:DAYLIGHT
BEGIN:STANDARD
TZOFFSETFROM:+0100
TZOFFSETTO:+0000
TZNAME:GMT
DTSTART:20201025T010000
END:STANDARD
BEGIN:DAYLIGHT
TZOFFSETFROM:+0000
TZOFFSETTO:+0100
TZNAME:BST
DTSTART:20210328T010000
END:DAYLIGHT
BEGIN:STANDARD
TZOFFSETFROM:+0100
TZOFFSETTO:+0000
TZNAME:GMT
DTSTART:20211031T010000
END:STANDARD
END:VTIMEZONE
BEGIN:VEVENT
DTSTART;TZID=Europe/London:20200529T150000
DTEND;TZID=Europe/London:20200529T160000
DTSTAMP:20260424T042233
CREATED:20200515T145244Z
LAST-MODIFIED:20210315T171409Z
UID:3152-1590764400-1590768000@www.rednoteensemble.com
SUMMARY:Red Note Fridays@3: Eddie McGuire's Euphoria
DESCRIPTION:Join us on our YouTube channel every Friday afternoon at 3PM for a session of new music where we release unseen performances\, delve into our recorded albums and meet the composers.  \nFriday 29th May: We take a closer look at Euphoria\, the second track from Eddie McGuire’s ‘Entangled Fortunes’ (Delphian Records). Eddie McGuire is one of Scotland’s greatest living composers. A renaissance man\, his compositional voice is informed by a broad wealth of cultural experience and by an unlimited melodic creativity. In this intensely beautiful and unpretentious music\, folk-like tunes appear naturally\, taking their place in a world of invention large enough to contain minimalist gestures\, intense romanticism\, meditative silence and sudden drama. (click on this link or on BUY TICKETS and you will redirected to YouTube) \nClick here to read the programme notes.
URL:https://www.rednoteensemble.com/event/red-note-fridays3-eddie-mcguires-euphoria/
CATEGORIES:Concerts
ATTACH;FMTTYPE=image/jpeg:https://www.rednoteensemble.com/wp-content/uploads/2020/05/entangled.jpg
END:VEVENT
END:VCALENDAR