BEGIN:VCALENDAR
VERSION:2.0
PRODID:-//Red Note  - ECPv6.15.18//NONSGML v1.0//EN
CALSCALE:GREGORIAN
METHOD:PUBLISH
X-WR-CALNAME:Red Note 
X-ORIGINAL-URL:https://www.rednoteensemble.com
X-WR-CALDESC:Events for Red Note 
REFRESH-INTERVAL;VALUE=DURATION:PT1H
X-Robots-Tag:noindex
X-PUBLISHED-TTL:PT1H
BEGIN:VTIMEZONE
TZID:Europe/London
BEGIN:DAYLIGHT
TZOFFSETFROM:+0000
TZOFFSETTO:+0100
TZNAME:BST
DTSTART:20190331T010000
END:DAYLIGHT
BEGIN:STANDARD
TZOFFSETFROM:+0100
TZOFFSETTO:+0000
TZNAME:GMT
DTSTART:20191027T010000
END:STANDARD
BEGIN:DAYLIGHT
TZOFFSETFROM:+0000
TZOFFSETTO:+0100
TZNAME:BST
DTSTART:20200329T010000
END:DAYLIGHT
BEGIN:STANDARD
TZOFFSETFROM:+0100
TZOFFSETTO:+0000
TZNAME:GMT
DTSTART:20201025T010000
END:STANDARD
BEGIN:DAYLIGHT
TZOFFSETFROM:+0000
TZOFFSETTO:+0100
TZNAME:BST
DTSTART:20210328T010000
END:DAYLIGHT
BEGIN:STANDARD
TZOFFSETFROM:+0100
TZOFFSETTO:+0000
TZNAME:GMT
DTSTART:20211031T010000
END:STANDARD
END:VTIMEZONE
BEGIN:VEVENT
DTSTART;VALUE=DATE:20200527
DTEND;VALUE=DATE:20200528
DTSTAMP:20260424T042111
CREATED:20200511T093202Z
LAST-MODIFIED:20200511T132649Z
UID:3128-1590537600-1590623999@www.rednoteensemble.com
SUMMARY:New Digital Noisy Nights - Call for Young Composers
DESCRIPTION:Digital Noisy Nights provide an outlet to hear emerging new musical ideas and voices in our new social distanced reality. Every Friday at 3PM for the month of June\, these five outstanding Red Note musicians will bring you the best examples of brand new music played from scratch from their homes to yours: \n\nRuth Morley – Flute\,\nJo Nicholson – Bass Clarinet\,\nTom Hunter – Percussion\,\nJackie Shave – Violin\,\nand Duncan Strachan – Cello.\n\nCall for Young Composers \nIf you are a young composer\, still at high school full time and interested in writing a 2 – 5min long piece for a solo instrument\, send your name\, high school and contact email to admin [at] rednoteensemble.com by Wednesday 27th May (12:00PM). \nThat same day we will get back in touch to inform you about the instrument you have been assigned to write for (no choice – that’s part of the challenge!). You will also receive the link to a brief instrument demo filmed by each player outlining capabilities\, techniques\, notation\, etc. \nThen the challenge is on! You have 3 weeks to write your piece for that specific instrument (if you’re in touch with your school music teacher online\, you can ask them for advice and help).  Please submit in pdf format by 5pm on Wednesday 17th June to admin [at] rednoteensemble.com. Please note the scores should not include electronics or any pre-recorded parts\, and consider that concerts are rehearsed and performed in a short timeframe. \nOur players will then select 5 compositions from those submitted\, to be performed on our YouTube channel on our final Digital Noisy Nights concert\, 26th June. \nChallenge accepted? \nPlease help us spread the word by sharing this call with your friends and contacts. \nWe are looking forward to keeping music alive and new music lovers connected online.
URL:https://www.rednoteensemble.com/event/new-dnn-call-for-young-composers/
CATEGORIES:Noisy Nights
ATTACH;FMTTYPE=image/png:https://www.rednoteensemble.com/wp-content/uploads/2020/05/NN-Digital-2-Players.png
END:VEVENT
END:VCALENDAR