BEGIN:VCALENDAR
VERSION:2.0
PRODID:-//Red Note  - ECPv6.15.18//NONSGML v1.0//EN
CALSCALE:GREGORIAN
METHOD:PUBLISH
X-WR-CALNAME:Red Note 
X-ORIGINAL-URL:https://www.rednoteensemble.com
X-WR-CALDESC:Events for Red Note 
REFRESH-INTERVAL;VALUE=DURATION:PT1H
X-Robots-Tag:noindex
X-PUBLISHED-TTL:PT1H
BEGIN:VTIMEZONE
TZID:Europe/London
BEGIN:DAYLIGHT
TZOFFSETFROM:+0000
TZOFFSETTO:+0100
TZNAME:BST
DTSTART:20190331T010000
END:DAYLIGHT
BEGIN:STANDARD
TZOFFSETFROM:+0100
TZOFFSETTO:+0000
TZNAME:GMT
DTSTART:20191027T010000
END:STANDARD
BEGIN:DAYLIGHT
TZOFFSETFROM:+0000
TZOFFSETTO:+0100
TZNAME:BST
DTSTART:20200329T010000
END:DAYLIGHT
BEGIN:STANDARD
TZOFFSETFROM:+0100
TZOFFSETTO:+0000
TZNAME:GMT
DTSTART:20201025T010000
END:STANDARD
BEGIN:DAYLIGHT
TZOFFSETFROM:+0000
TZOFFSETTO:+0100
TZNAME:BST
DTSTART:20210328T010000
END:DAYLIGHT
BEGIN:STANDARD
TZOFFSETFROM:+0100
TZOFFSETTO:+0000
TZNAME:GMT
DTSTART:20211031T010000
END:STANDARD
END:VTIMEZONE
BEGIN:VEVENT
DTSTART;VALUE=DATE:20200522
DTEND;VALUE=DATE:20200523
DTSTAMP:20260424T042113
CREATED:20200511T092052Z
LAST-MODIFIED:20200511T093904Z
UID:3127-1590105600-1590191999@www.rednoteensemble.com
SUMMARY:New Digital Noisy Nights - Call for Composers!
DESCRIPTION:Digital Noisy Nights provide an outlet to hear emerging new musical ideas and voices in our new social distanced reality. Every Friday at 3PM for the month of June\, these five outstanding Red Note musicians will bring you the best examples of brand new music played from scratch from their homes to yours: \n\nRuth Morley – Flute\,\nJo Nicholson – Bass Clarinet\,\nTom Hunter – Percussion\,\nJackie Shave – Violin\,\nand Duncan Strachan – Cello.\n\nCall for Adult Composers (18+) \n(18 or younger? Check out the call for younger composers) \nIf you are an emerging\, student (18+) or amateur composer interested in writing a 5-min long piece for a solo instrument\, send your name and contact email to admin [at] rednoteensemble.com by Friday 22 May (12:00PM). \nThat same day\, we will get back in touch to inform you about the instrument you have been assigned to write for from the options above – this will be a random allocation. You will also receive the link to a brief instrument demo filmed by each player outlining capabilities\, techniques\, notation\, etc. \nThen the challenge is on! You have 1 week to write your piece for that specific instrument. Please submit in pdf format by 5pm on Friday 29th May to admin [at] rednoteensemble.com. Please note the scores should not include electronics or any pre-recorded parts\, and consider that concerts are rehearsed and performed in a short timeframe. \nThe 15 compositions selected by the players will be performed on our YouTube channel on 3 separate concerts: 5th June\, 12th June and 19th June. \nChallenge accepted? \nPlease help us spread the word by sharing this call with your friends and contacts. \nWe are looking forward to keeping music alive and new music lovers connected online.
URL:https://www.rednoteensemble.com/event/new-dnn-call-for-composers/
CATEGORIES:Noisy Nights
ATTACH;FMTTYPE=image/png:https://www.rednoteensemble.com/wp-content/uploads/2020/05/NN-Digital-2-Players.png
END:VEVENT
BEGIN:VEVENT
DTSTART;TZID=Europe/London:20200522T150000
DTEND;TZID=Europe/London:20200522T160000
DTSTAMP:20260424T042113
CREATED:20200515T143813Z
LAST-MODIFIED:20200521T163936Z
UID:3141-1590159600-1590163200@www.rednoteensemble.com
SUMMARY:Red Note Fridays@3: David Wilde's String Quartet
DESCRIPTION:Join us on our YouTube channel every Friday afternoon at 3PM for a session of new music where we release unseen performances\, delve into our recorded albums and meet the composers.  \nFriday 22nd May: We look back into our album on Delphian Records ‘The Cellist of Sarajevo: Chamber Music by David Wilde’. This album presents the works that emerged from Wilde’s ‘Bosnian’ period\, when he travelled to besieged Sarajevo to help preserve the city’s cultural life\, earning him the friendship of colleagues including the heroic members of the Sarajevo String Quartet. (click on this link or on BUY TICKETS and you will redirected to YouTube)
URL:https://www.rednoteensemble.com/event/rednote-fridays3-david-wilde/
CATEGORIES:Concerts
ATTACH;FMTTYPE=image/jpeg:https://www.rednoteensemble.com/wp-content/uploads/2020/05/DCD34179_RGB_1200x.jpg
END:VEVENT
END:VCALENDAR