BEGIN:VCALENDAR
VERSION:2.0
PRODID:-//Red Note  - ECPv6.15.18//NONSGML v1.0//EN
CALSCALE:GREGORIAN
METHOD:PUBLISH
X-WR-CALNAME:Red Note 
X-ORIGINAL-URL:https://www.rednoteensemble.com
X-WR-CALDESC:Events for Red Note 
REFRESH-INTERVAL;VALUE=DURATION:PT1H
X-Robots-Tag:noindex
X-PUBLISHED-TTL:PT1H
BEGIN:VTIMEZONE
TZID:Europe/London
BEGIN:DAYLIGHT
TZOFFSETFROM:+0000
TZOFFSETTO:+0100
TZNAME:BST
DTSTART:20190331T010000
END:DAYLIGHT
BEGIN:STANDARD
TZOFFSETFROM:+0100
TZOFFSETTO:+0000
TZNAME:GMT
DTSTART:20191027T010000
END:STANDARD
BEGIN:DAYLIGHT
TZOFFSETFROM:+0000
TZOFFSETTO:+0100
TZNAME:BST
DTSTART:20200329T010000
END:DAYLIGHT
BEGIN:STANDARD
TZOFFSETFROM:+0100
TZOFFSETTO:+0000
TZNAME:GMT
DTSTART:20201025T010000
END:STANDARD
BEGIN:DAYLIGHT
TZOFFSETFROM:+0000
TZOFFSETTO:+0100
TZNAME:BST
DTSTART:20210328T010000
END:DAYLIGHT
BEGIN:STANDARD
TZOFFSETFROM:+0100
TZOFFSETTO:+0000
TZNAME:GMT
DTSTART:20211031T010000
END:STANDARD
END:VTIMEZONE
BEGIN:VEVENT
DTSTART;TZID=Europe/London:20200515T150000
DTEND;TZID=Europe/London:20200515T160000
DTSTAMP:20260424T042111
CREATED:20200512T143746Z
LAST-MODIFIED:20210315T171512Z
UID:3136-1589554800-1589558400@www.rednoteensemble.com
SUMMARY:Red Note Fridays@3: Aeolian
DESCRIPTION:Join us on our YouTube channel every Friday afternoon at 3PM for a session of new music where we release unseen performances\, delve into our recorded albums and meet the composers.  \nFriday 15th May: Enjoy the full performance of Aeolian\, filmed in the beautiful Sentralen at Ultima Oslo Contemporary Music Festival\, introduced by the creative minds behind this part performance part kinetic-sculptural work: Norwegian composer Maja S. K. Ratkje\, UK installation artist Kathy Hinde and Danish accordionist Andreas Borregaard.
URL:https://www.rednoteensemble.com/event/red-note-fridays3-aeolian/
CATEGORIES:Concerts
ATTACH;FMTTYPE=image/jpeg:https://www.rednoteensemble.com/wp-content/uploads/2018/10/Aeolian_promoshot_edit2-e1539012258155.jpg
END:VEVENT
END:VCALENDAR