BEGIN:VCALENDAR
VERSION:2.0
PRODID:-//Red Note  - ECPv6.15.18//NONSGML v1.0//EN
CALSCALE:GREGORIAN
METHOD:PUBLISH
X-WR-CALNAME:Red Note 
X-ORIGINAL-URL:https://www.rednoteensemble.com
X-WR-CALDESC:Events for Red Note 
REFRESH-INTERVAL;VALUE=DURATION:PT1H
X-Robots-Tag:noindex
X-PUBLISHED-TTL:PT1H
BEGIN:VTIMEZONE
TZID:Europe/London
BEGIN:DAYLIGHT
TZOFFSETFROM:+0000
TZOFFSETTO:+0100
TZNAME:BST
DTSTART:20190331T010000
END:DAYLIGHT
BEGIN:STANDARD
TZOFFSETFROM:+0100
TZOFFSETTO:+0000
TZNAME:GMT
DTSTART:20191027T010000
END:STANDARD
BEGIN:DAYLIGHT
TZOFFSETFROM:+0000
TZOFFSETTO:+0100
TZNAME:BST
DTSTART:20200329T010000
END:DAYLIGHT
BEGIN:STANDARD
TZOFFSETFROM:+0100
TZOFFSETTO:+0000
TZNAME:GMT
DTSTART:20201025T010000
END:STANDARD
BEGIN:DAYLIGHT
TZOFFSETFROM:+0000
TZOFFSETTO:+0100
TZNAME:BST
DTSTART:20210328T010000
END:DAYLIGHT
BEGIN:STANDARD
TZOFFSETFROM:+0100
TZOFFSETTO:+0000
TZNAME:GMT
DTSTART:20211031T010000
END:STANDARD
END:VTIMEZONE
BEGIN:VEVENT
DTSTART;VALUE=DATE:20200501
DTEND;VALUE=DATE:20200502
DTSTAMP:20260424T042111
CREATED:20200331T104633Z
LAST-MODIFIED:20210315T171550Z
UID:3092-1588291200-1588377599@www.rednoteensemble.com
SUMMARY:Digital Noisy Nights for young composers
DESCRIPTION:Noisy Nights are adapting to these social distancing times\, going digital and providing an outlet to hear emerging new musical ideas and voices. We are planning not only 1 but 4 nights of brand new music with Red Note musicians that you can enjoy from your own home – but there’s more news: the last one of these is reserved for young composers who are still at school! \n\nRuth Morley – Flute\,\nSasha Savaloni – Classical guitar\,\nTom Hunter – Percussion\,\nJackie Shave – Violin\,\nand Robert Irvine Cello.\n\nNoisy Nights – 1 May\, 3PM (BST)\nEliza Sinclair Kidd\, To a Mouse\nFergus Butt\, The Goldfish Are Relentless\nNeo Korths\, In The Shade Of Tangier\nIsak Persson\, Kvadratiska Vattenvågor \nLouis Opit\, Predatory Prelude \nJoin us from your home to ours and connect with other new music lovers online on our YouTube channel (click on the link or on BUY TICKETS and you will redirected to YouTube)\, as we hear some of the best examples of brand new music from the most emerging composers\, the next generation in contemporary music. \nRed Note is a PRS Foundation Talent Development Partner.
URL:https://www.rednoteensemble.com/event/noisynights-young-composers/
CATEGORIES:Noisy Nights
ATTACH;FMTTYPE=image/png:https://www.rednoteensemble.com/wp-content/uploads/2020/03/RN-EnsemblePic-Landscape-PRSFtdplogo-1.png
END:VEVENT
END:VCALENDAR