BEGIN:VCALENDAR
VERSION:2.0
PRODID:-//Red Note  - ECPv6.15.18//NONSGML v1.0//EN
CALSCALE:GREGORIAN
METHOD:PUBLISH
X-ORIGINAL-URL:https://www.rednoteensemble.com
X-WR-CALDESC:Events for Red Note 
REFRESH-INTERVAL;VALUE=DURATION:PT1H
X-Robots-Tag:noindex
X-PUBLISHED-TTL:PT1H
BEGIN:VTIMEZONE
TZID:Europe/London
BEGIN:DAYLIGHT
TZOFFSETFROM:+0000
TZOFFSETTO:+0100
TZNAME:BST
DTSTART:20190331T010000
END:DAYLIGHT
BEGIN:STANDARD
TZOFFSETFROM:+0100
TZOFFSETTO:+0000
TZNAME:GMT
DTSTART:20191027T010000
END:STANDARD
BEGIN:DAYLIGHT
TZOFFSETFROM:+0000
TZOFFSETTO:+0100
TZNAME:BST
DTSTART:20200329T010000
END:DAYLIGHT
BEGIN:STANDARD
TZOFFSETFROM:+0100
TZOFFSETTO:+0000
TZNAME:GMT
DTSTART:20201025T010000
END:STANDARD
BEGIN:DAYLIGHT
TZOFFSETFROM:+0000
TZOFFSETTO:+0100
TZNAME:BST
DTSTART:20210328T010000
END:DAYLIGHT
BEGIN:STANDARD
TZOFFSETFROM:+0100
TZOFFSETTO:+0000
TZNAME:GMT
DTSTART:20211031T010000
END:STANDARD
END:VTIMEZONE
BEGIN:VEVENT
DTSTART;TZID=Europe/London:20200225T193000
DTEND;TZID=Europe/London:20200225T213000
DTSTAMP:20260424T072427
CREATED:20191216T124359Z
LAST-MODIFIED:20210315T171825Z
UID:2961-1582659000-1582666200@www.rednoteensemble.com
SUMMARY:Leverhulme concert: Eight Songs for a Mad King
DESCRIPTION:Enter the compelling world from which Maxwell-Davies drew his remarkable 8 Songs For A Mad King. \nFounded by King George III in 1817\, the Worshipful Company of Aviarists served to source and look after his tuneful birds and now present this flight of fancy from inside a birdcage of absurdity as the worshipful company create the regal mind of the mad monarch. We’ll sing a song of sixpence with four and twenty blackbirds\, and have a Lark doing it! \nThe score (to a text by Randolph Stow) offers a searing examination of madness\, and this tour de force music theatre piece for male voice and ensemble gives a visceral thrill in performance. \nGeorge\, our mad king\, is suffering from hallucinations and is painfully aware of his failing mental state. During his first episodes of madness\, he is subjected to torture\, starvation\, reproach; he is kept in a stable where he is treated like an animal. \nPerforming alongside Red Note\, in the role of the Mad King\, will be MMus Opera student Oskar McCarthy\, and the piece will be conducted by one of the Leverhulme conducting Fellows. The performance will also feature works by Mark Simpson\, Harrison Birtwistle and two RCS composers\, Sean O’Callaghan and Rylan Gleave. \nMark Simpson Straw Dogs\nHarrison Birtwistle Carmen Arcadiae\nSean O’Callaghan New Work\nRyan Gleave New Work\nInterval \nPeter Maxwell Davies Eight Songs for a Mad King \nRCS Music Lab and Red Note Ensemble \nConductors: Teresa Riveiro Bohm\, Joel Sandelson and Sergej Bolkhovets\nSoloist: Oskar McCarthy \nDirector: Mark Hathaway
URL:https://www.rednoteensemble.com/event/leverhulme-concert-eight-songs-for-a-mad-king/
LOCATION:Cottier’s Theatre\, 93-95 Hyndland St\, Glasgow\, G11 5PU
CATEGORIES:Concerts
ATTACH;FMTTYPE=image/jpeg:https://www.rednoteensemble.com/wp-content/uploads/2019/12/54b78c8e-f31e-4a79-978f-73244700144e.jpg
END:VEVENT
END:VCALENDAR