BEGIN:VCALENDAR
VERSION:2.0
PRODID:-//Red Note  - ECPv6.15.18//NONSGML v1.0//EN
CALSCALE:GREGORIAN
METHOD:PUBLISH
X-WR-CALNAME:Red Note 
X-ORIGINAL-URL:https://www.rednoteensemble.com
X-WR-CALDESC:Events for Red Note 
REFRESH-INTERVAL;VALUE=DURATION:PT1H
X-Robots-Tag:noindex
X-PUBLISHED-TTL:PT1H
BEGIN:VTIMEZONE
TZID:Europe/London
BEGIN:DAYLIGHT
TZOFFSETFROM:+0000
TZOFFSETTO:+0100
TZNAME:BST
DTSTART:20180325T010000
END:DAYLIGHT
BEGIN:STANDARD
TZOFFSETFROM:+0100
TZOFFSETTO:+0000
TZNAME:GMT
DTSTART:20181028T010000
END:STANDARD
BEGIN:DAYLIGHT
TZOFFSETFROM:+0000
TZOFFSETTO:+0100
TZNAME:BST
DTSTART:20190331T010000
END:DAYLIGHT
BEGIN:STANDARD
TZOFFSETFROM:+0100
TZOFFSETTO:+0000
TZNAME:GMT
DTSTART:20191027T010000
END:STANDARD
BEGIN:DAYLIGHT
TZOFFSETFROM:+0000
TZOFFSETTO:+0100
TZNAME:BST
DTSTART:20200329T010000
END:DAYLIGHT
BEGIN:STANDARD
TZOFFSETFROM:+0100
TZOFFSETTO:+0000
TZNAME:GMT
DTSTART:20201025T010000
END:STANDARD
END:VTIMEZONE
BEGIN:VEVENT
DTSTART;TZID=Europe/London:20191215T210000
DTEND;TZID=Europe/London:20191215T210000
DTSTAMP:20260424T113544
CREATED:20191125T132229Z
LAST-MODIFIED:20191125T132409Z
UID:2933-1576443600-1576443600@www.rednoteensemble.com
SUMMARY:Red Note on BBC Radio Scotland - Classics Unwrapped
DESCRIPTION:Marking the end of Red Note’s 10th Anniversary year\, we will be performing on BBC Radio Scotland with a special session for Classics Unwrapped: tune in on Sunday 15th December 9pm. \nEddie McGuire Euphoria\nAileen Sweeney Ceilidh\nBill Sweeney Oran Buidheachas
URL:https://www.rednoteensemble.com/event/red-note-on-bbc-radio-scotland-classics-unwrapped/
CATEGORIES:Concerts
ATTACH;FMTTYPE=image/jpeg:https://www.rednoteensemble.com/wp-content/uploads/2019/11/Red-Note-Ensemble-celebrates-its-10th-anniversary-at-Summerhall-Edinburgh-©-Lara-Cappelli.jpg
END:VEVENT
END:VCALENDAR