BEGIN:VCALENDAR
VERSION:2.0
PRODID:-//Red Note  - ECPv6.15.18//NONSGML v1.0//EN
CALSCALE:GREGORIAN
METHOD:PUBLISH
X-ORIGINAL-URL:https://www.rednoteensemble.com
X-WR-CALDESC:Events for Red Note 
REFRESH-INTERVAL;VALUE=DURATION:PT1H
X-Robots-Tag:noindex
X-PUBLISHED-TTL:PT1H
BEGIN:VTIMEZONE
TZID:Europe/London
BEGIN:DAYLIGHT
TZOFFSETFROM:+0000
TZOFFSETTO:+0100
TZNAME:BST
DTSTART:20180325T010000
END:DAYLIGHT
BEGIN:STANDARD
TZOFFSETFROM:+0100
TZOFFSETTO:+0000
TZNAME:GMT
DTSTART:20181028T010000
END:STANDARD
BEGIN:DAYLIGHT
TZOFFSETFROM:+0000
TZOFFSETTO:+0100
TZNAME:BST
DTSTART:20190331T010000
END:DAYLIGHT
BEGIN:STANDARD
TZOFFSETFROM:+0100
TZOFFSETTO:+0000
TZNAME:GMT
DTSTART:20191027T010000
END:STANDARD
BEGIN:DAYLIGHT
TZOFFSETFROM:+0000
TZOFFSETTO:+0100
TZNAME:BST
DTSTART:20200329T010000
END:DAYLIGHT
BEGIN:STANDARD
TZOFFSETFROM:+0100
TZOFFSETTO:+0000
TZNAME:GMT
DTSTART:20201025T010000
END:STANDARD
END:VTIMEZONE
BEGIN:VEVENT
DTSTART;TZID=Europe/London:20191120T200000
DTEND;TZID=Europe/London:20191120T223000
DTSTAMP:20260424T130246
CREATED:20190807T100934Z
LAST-MODIFIED:20191113T202601Z
UID:2863-1574280000-1574289000@www.rednoteensemble.com
SUMMARY:Noisy Nights - Glasgow
DESCRIPTION:After a 3-year hiatus\, Noisy Nights returns to Glasgow! \nThey’re a place to meet music-lovers\, curious minds\, musicians\, composers and artists in an informal space and hear some of the best examples of brand new music while having a beer. They’re fun\, free and your chance to listen to the musicians of Red Note. \nAlison Beattie Morning in a City Park\nAmy Stewart  Between the Beats\nChris Litherland  In Nomine Suites Vol. V\nGillian Walker  The Gallery\nFlorence Anne Maunders Power Moves VI\nMauricio Cristales Armas  Ælteratio\nMichael Szpakowski  five small pieces\nOliver Hawker Sweet Eggs\nSonia Killmann Wie Bitte?\nStefan Paparozzi As Above\, So Below \nRed Note is a PRS Foundation Talent Development Partner.
URL:https://www.rednoteensemble.com/event/noisynights/
LOCATION:The Drake\, 1 Lynedoch St\, Glasgow\, G3 6EF\, United Kingdom
CATEGORIES:Noisy Nights
ATTACH;FMTTYPE=image/png:https://www.rednoteensemble.com/wp-content/uploads/2019/08/Noisy-Nights-2019-Announcement.png
END:VEVENT
END:VCALENDAR