BEGIN:VCALENDAR
VERSION:2.0
PRODID:-//Red Note  - ECPv6.15.18//NONSGML v1.0//EN
CALSCALE:GREGORIAN
METHOD:PUBLISH
X-ORIGINAL-URL:https://www.rednoteensemble.com
X-WR-CALDESC:Events for Red Note 
REFRESH-INTERVAL;VALUE=DURATION:PT1H
X-Robots-Tag:noindex
X-PUBLISHED-TTL:PT1H
BEGIN:VTIMEZONE
TZID:Europe/Oslo
BEGIN:DAYLIGHT
TZOFFSETFROM:+0100
TZOFFSETTO:+0200
TZNAME:CEST
DTSTART:20180325T010000
END:DAYLIGHT
BEGIN:STANDARD
TZOFFSETFROM:+0200
TZOFFSETTO:+0100
TZNAME:CET
DTSTART:20181028T010000
END:STANDARD
BEGIN:DAYLIGHT
TZOFFSETFROM:+0100
TZOFFSETTO:+0200
TZNAME:CEST
DTSTART:20190331T010000
END:DAYLIGHT
BEGIN:STANDARD
TZOFFSETFROM:+0200
TZOFFSETTO:+0100
TZNAME:CET
DTSTART:20191027T010000
END:STANDARD
BEGIN:DAYLIGHT
TZOFFSETFROM:+0100
TZOFFSETTO:+0200
TZNAME:CEST
DTSTART:20200329T010000
END:DAYLIGHT
BEGIN:STANDARD
TZOFFSETFROM:+0200
TZOFFSETTO:+0100
TZNAME:CET
DTSTART:20201025T010000
END:STANDARD
END:VTIMEZONE
BEGIN:VEVENT
DTSTART;TZID=Europe/Oslo:20190914T150000
DTEND;TZID=Europe/Oslo:20190914T170000
DTSTAMP:20260424T161728
CREATED:20190502T105253Z
LAST-MODIFIED:20190502T105253Z
UID:2724-1568473200-1568480400@www.rednoteensemble.com
SUMMARY:Aeolian at Ultima Festival (Oslo)
DESCRIPTION:Once again we join Norwegian composer Maja S. K. Ratkje\, UK installation artist Kathy Hinde and Danish accordionist Andreas Borregaard for Aeolian\, performing at Ultima Festival in Oslo.\nThis collaboration is a deeply-integrated new work\, combining newly-designed air-powered instruments with live musicians to create a new part-performance\, part kinetic-sculptural work. \nThere will be two performances and after each concert the wind instruments can be experienced as an installation. \nCommissioned by Red Note and produced by hcmf// and Red Note Ensemble.
URL:https://www.rednoteensemble.com/event/aeolian-at-ultima-festival-oslo/
LOCATION:Sentralen Oslo\, Øvre Slottsgate\, Oslo\, 0157\, Norway
CATEGORIES:Concerts
ATTACH;FMTTYPE=image/jpeg:https://www.rednoteensemble.com/wp-content/uploads/2018/10/Aeolian_promoshot_edit2-e1539012258155.jpg
END:VEVENT
END:VCALENDAR