BEGIN:VCALENDAR
VERSION:2.0
PRODID:-//Red Note  - ECPv6.15.18//NONSGML v1.0//EN
CALSCALE:GREGORIAN
METHOD:PUBLISH
X-WR-CALNAME:Red Note 
X-ORIGINAL-URL:https://www.rednoteensemble.com
X-WR-CALDESC:Events for Red Note 
REFRESH-INTERVAL;VALUE=DURATION:PT1H
X-Robots-Tag:noindex
X-PUBLISHED-TTL:PT1H
BEGIN:VTIMEZONE
TZID:Europe/London
BEGIN:DAYLIGHT
TZOFFSETFROM:+0000
TZOFFSETTO:+0100
TZNAME:BST
DTSTART:20160327T010000
END:DAYLIGHT
BEGIN:STANDARD
TZOFFSETFROM:+0100
TZOFFSETTO:+0000
TZNAME:GMT
DTSTART:20161030T010000
END:STANDARD
BEGIN:DAYLIGHT
TZOFFSETFROM:+0000
TZOFFSETTO:+0100
TZNAME:BST
DTSTART:20170326T010000
END:DAYLIGHT
BEGIN:STANDARD
TZOFFSETFROM:+0100
TZOFFSETTO:+0000
TZNAME:GMT
DTSTART:20171029T010000
END:STANDARD
BEGIN:DAYLIGHT
TZOFFSETFROM:+0000
TZOFFSETTO:+0100
TZNAME:BST
DTSTART:20180325T010000
END:DAYLIGHT
BEGIN:STANDARD
TZOFFSETFROM:+0100
TZOFFSETTO:+0000
TZNAME:GMT
DTSTART:20181028T010000
END:STANDARD
END:VTIMEZONE
BEGIN:VEVENT
DTSTART;TZID=Europe/London:20171117T233000
DTEND;TZID=Europe/London:20171118T003000
DTSTAMP:20260426T011803
CREATED:20170821T100730Z
LAST-MODIFIED:20170822T161357Z
UID:2113-1510961400-1510965000@www.rednoteensemble.com
SUMMARY:HCMF 40: Aeolian
DESCRIPTION:Norwegian composer Maja S K Ratkje\, UK installation artist Kathy Hinde and Danish accordionist Andreas Borregaard have collaborated to create this deeply-integrated new work\, commissioned by Scotland’s Red Note Ensemble\, combining newly-designed air-powered instruments with live musicians to create a new part-performance\, part kinetic-sculptural work. \nAndreas Borregaard accordion\nMaja S K Ratkje music\nKathy Hinde installation \nRed Note Ensemble:\nJacqueline Shave violin\nRachel Spencer violin\nTom Dunn viola\nRobert Irvine cello\nNikita Naumov double bass\nJoy Smith clarsach\nAllan Neave guitar\nRuth Morley flute\nTim Lines clarinet\nChris Steam trombone\nTom Hunter percussion\nRhian MacLeod percussion
URL:https://www.rednoteensemble.com/event/hcmf-40-aeolian/
LOCATION:Bates Mill Photographic Studio\, Colne Road\, Huddersfield\, HD1 3ER
CATEGORIES:Concerts
ATTACH;FMTTYPE=image/jpeg:https://www.rednoteensemble.com/wp-content/uploads/2017/08/Aeolian_promoshot_edit2.jpg
END:VEVENT
END:VCALENDAR