BEGIN:VCALENDAR
VERSION:2.0
PRODID:-//Red Note  - ECPv6.15.18//NONSGML v1.0//EN
CALSCALE:GREGORIAN
METHOD:PUBLISH
X-ORIGINAL-URL:https://www.rednoteensemble.com
X-WR-CALDESC:Events for Red Note 
REFRESH-INTERVAL;VALUE=DURATION:PT1H
X-Robots-Tag:noindex
X-PUBLISHED-TTL:PT1H
BEGIN:VTIMEZONE
TZID:Europe/London
BEGIN:DAYLIGHT
TZOFFSETFROM:+0000
TZOFFSETTO:+0100
TZNAME:BST
DTSTART:20160327T010000
END:DAYLIGHT
BEGIN:STANDARD
TZOFFSETFROM:+0100
TZOFFSETTO:+0000
TZNAME:GMT
DTSTART:20161030T010000
END:STANDARD
BEGIN:DAYLIGHT
TZOFFSETFROM:+0000
TZOFFSETTO:+0100
TZNAME:BST
DTSTART:20170326T010000
END:DAYLIGHT
BEGIN:STANDARD
TZOFFSETFROM:+0100
TZOFFSETTO:+0000
TZNAME:GMT
DTSTART:20171029T010000
END:STANDARD
BEGIN:DAYLIGHT
TZOFFSETFROM:+0000
TZOFFSETTO:+0100
TZNAME:BST
DTSTART:20180325T010000
END:DAYLIGHT
BEGIN:STANDARD
TZOFFSETFROM:+0100
TZOFFSETTO:+0000
TZNAME:GMT
DTSTART:20181028T010000
END:STANDARD
END:VTIMEZONE
BEGIN:VEVENT
DTSTART;TZID=Europe/London:20170601T080000
DTEND;TZID=Europe/London:20170831T170000
DTSTAMP:20260426T042657
CREATED:20170613T131217Z
LAST-MODIFIED:20170613T132809Z
UID:2065-1496304000-1504198800@www.rednoteensemble.com
SUMMARY:New Music Makers at Hillhead High School
DESCRIPTION:We are working with music teachers and pupils studying Higher Music\, before culminating in a performance on 31 August. \nNew Music Makers is an exciting and ambitious programme to support the development of young composers in schools across Scotland. Designed to inspire and support composing\, the project demonstrates how a professional ensemble working in partnership with a school can create a genuine practical legacy\, enabling the school to take the work forward independently. \nThe sessions\, led by Red Note’s John Harris\, will give 27 pupils all studying Higher Music an insight into some of the ideas and compositional techniques used by professional composers. Four workshops\, running from 1 June to 31 August\, culminate in an informal performance on 31 August\, featuring the pupil’s new compositions performed by Red Note musicians David Munn\, Jo Nicholson\, Tom Hankey and John Harris. \nIf you would like more information\, or would like your school to participate in New Music Makers\, please contact Project Manager Siobhan Clark at newmusicmakers@rednoteensemble.com \nNew Music Makers is made possible thanks to support from Creative Scotland\, The Esmée Fairbairn Foundation\, The Robertson Trust and The Radcliffe Trust.
URL:https://www.rednoteensemble.com/event/new-music-makers-at-hillhead-high-school/
CATEGORIES:Creative Learning
ATTACH;FMTTYPE=image/png:https://www.rednoteensemble.com/wp-content/uploads/2017/06/hillhead.png
END:VEVENT
BEGIN:VEVENT
DTSTART;TZID=Europe/London:20170829T193000
DTEND;TZID=Europe/London:20170829T210000
DTSTAMP:20260426T042657
CREATED:20170612T122342Z
LAST-MODIFIED:20170630T121652Z
UID:2043-1504035000-1504040400@www.rednoteensemble.com
SUMMARY:Journeys String Quartet Tour
DESCRIPTION:Red Note presents a programme of short pieces from around the world that deal with the idea of journeys of music and peoples across borders. \nThis eclectic and very exciting performance of extremely varied music\, ranging from beautifully melodic and rich folk-based works to wild\, fast and powerful extracts from some of the 20th century’s greatest string quartets. There is something for everyone; love songs and keening elegies juxtaposed with crazy thumping rhythmic dances from around the globe. All played with the greatest passion and commitment by the strings of Red Note Ensemble. \nFeaturing Jackie Shave\, Kathy Shave\, Tom Hankey and Robert Irvine.
URL:https://www.rednoteensemble.com/event/journeys-string-quartet-tour-4/
LOCATION:Gairloch Community Hall\, Gairloch \, Ross-shire\, IV21 2BH
CATEGORIES:Concerts
ATTACH;FMTTYPE=image/jpeg:https://www.rednoteensemble.com/wp-content/uploads/2017/06/Gairloch-Community-Hall.jpg
END:VEVENT
END:VCALENDAR